
BEGIN:VCALENDAR
VERSION:2.0
PRODID:-//SP Ebikon - ECPv6.15.20//NONSGML v1.0//EN
CALSCALE:GREGORIAN
METHOD:PUBLISH
X-WR-CALNAME:SP Ebikon
X-ORIGINAL-URL:https://sp-ebikon.ch
X-WR-CALDESC:Veranstaltungen im SP Ebikon
REFRESH-INTERVAL;VALUE=DURATION:PT1H
X-Robots-Tag:noindex
X-PUBLISHED-TTL:PT1H
BEGIN:VTIMEZONE
TZID:Europe/Zurich
BEGIN:DAYLIGHT
TZOFFSETFROM:+0100
TZOFFSETTO:+0200
TZNAME:CEST
DTSTART:20250330T010000
END:DAYLIGHT
BEGIN:STANDARD
TZOFFSETFROM:+0200
TZOFFSETTO:+0100
TZNAME:CET
DTSTART:20251026T010000
END:STANDARD
BEGIN:DAYLIGHT
TZOFFSETFROM:+0100
TZOFFSETTO:+0200
TZNAME:CEST
DTSTART:20260329T010000
END:DAYLIGHT
BEGIN:STANDARD
TZOFFSETFROM:+0200
TZOFFSETTO:+0100
TZNAME:CET
DTSTART:20261025T010000
END:STANDARD
BEGIN:DAYLIGHT
TZOFFSETFROM:+0100
TZOFFSETTO:+0200
TZNAME:CEST
DTSTART:20270328T010000
END:DAYLIGHT
BEGIN:STANDARD
TZOFFSETFROM:+0200
TZOFFSETTO:+0100
TZNAME:CET
DTSTART:20271031T010000
END:STANDARD
END:VTIMEZONE
BEGIN:VEVENT
DTSTART;TZID=Europe/Zurich:20260428T190000
DTEND;TZID=Europe/Zurich:20260428T213000
DTSTAMP:20260420T034641
CREATED:20251014T092819Z
LAST-MODIFIED:20260330T194201Z
UID:10000085-1777402800-1777411800@sp-ebikon.ch
SUMMARY:Sektionsversammlung
DESCRIPTION:
URL:https://sp-ebikon.ch/veranstaltung/sektionsversammlung-4/
CATEGORIES:Sektionsversammlung
END:VEVENT
BEGIN:VEVENT
DTSTART;TZID=Europe/Zurich:20260501T170000
DTEND;TZID=Europe/Zurich:20260501T210000
DTSTAMP:20260420T034641
CREATED:20251230T184536Z
LAST-MODIFIED:20251230T184536Z
UID:10000102-1777654800-1777669200@sp-ebikon.ch
SUMMARY:1. Mai in Luzern
DESCRIPTION:
URL:https://sp-ebikon.ch/veranstaltung/1-mai-in-luzern/
CATEGORIES:Demo
END:VEVENT
BEGIN:VEVENT
DTSTART;TZID=Europe/Zurich:20260507T173000
DTEND;TZID=Europe/Zurich:20260507T190000
DTSTAMP:20260420T034641
CREATED:20251201T141110Z
LAST-MODIFIED:20260129T184155Z
UID:10000091-1778175000-1778180400@sp-ebikon.ch
SUMMARY:Donnstigs-Bier
DESCRIPTION:
URL:https://sp-ebikon.ch/veranstaltung/donnstigs-bier-4/
CATEGORIES:Mitgliederanlass,Stammtisch
END:VEVENT
BEGIN:VEVENT
DTSTART;VALUE=DATE:20260614
DTEND;VALUE=DATE:20260615
DTSTAMP:20260420T034641
CREATED:20251230T184614Z
LAST-MODIFIED:20251230T184614Z
UID:10000103-1781395200-1781481599@sp-ebikon.ch
SUMMARY:Feministischer Streik in Luzern
DESCRIPTION:
URL:https://sp-ebikon.ch/veranstaltung/feministischer-streik-in-luzern/
CATEGORIES:Demo
END:VEVENT
BEGIN:VEVENT
DTSTART;TZID=Europe/Zurich:20260626T183000
DTEND;TZID=Europe/Zurich:20260626T220000
DTSTAMP:20260420T034642
CREATED:20251230T184728Z
LAST-MODIFIED:20251230T184728Z
UID:10000104-1782498600-1782511200@sp-ebikon.ch
SUMMARY:Jährliches Sommergrillfest der SP Ebikon
DESCRIPTION:
URL:https://sp-ebikon.ch/veranstaltung/jaehrliches-sommergrillfest-der-sp-ebikon/
CATEGORIES:Mitgliederanlass
END:VEVENT
BEGIN:VEVENT
DTSTART;TZID=Europe/Zurich:20260806T173000
DTEND;TZID=Europe/Zurich:20260806T190000
DTSTAMP:20260420T034642
CREATED:20251201T141138Z
LAST-MODIFIED:20260129T184237Z
UID:10000092-1786037400-1786042800@sp-ebikon.ch
SUMMARY:Donnstigs-Bier
DESCRIPTION:
URL:https://sp-ebikon.ch/veranstaltung/donnstigs-bier-5/
CATEGORIES:Mitgliederanlass,Stammtisch
END:VEVENT
BEGIN:VEVENT
DTSTART;TZID=Europe/Zurich:20260819T191500
DTEND;TZID=Europe/Zurich:20260819T213000
DTSTAMP:20260420T034642
CREATED:20251014T092943Z
LAST-MODIFIED:20251014T092943Z
UID:10000086-1787166900-1787175000@sp-ebikon.ch
SUMMARY:Sektionsversammlung
DESCRIPTION:
URL:https://sp-ebikon.ch/veranstaltung/sektionsversammlung-5/
CATEGORIES:Sektionsversammlung
END:VEVENT
BEGIN:VEVENT
DTSTART;TZID=Europe/Zurich:20260903T173000
DTEND;TZID=Europe/Zurich:20260903T190000
DTSTAMP:20260420T034642
CREATED:20251201T141203Z
LAST-MODIFIED:20260129T184251Z
UID:10000093-1788456600-1788462000@sp-ebikon.ch
SUMMARY:Donnstigs-Bier
DESCRIPTION:
URL:https://sp-ebikon.ch/veranstaltung/donnstigs-bier-6/
CATEGORIES:Mitgliederanlass,Stammtisch
END:VEVENT
BEGIN:VEVENT
DTSTART;VALUE=DATE:20260905
DTEND;VALUE=DATE:20260906
DTSTAMP:20260420T034642
CREATED:20260126T085648Z
LAST-MODIFIED:20260126T085652Z
UID:10000107-1788566400-1788652799@sp-ebikon.ch
SUMMARY:Jubiläumsfest 75 Jahre SP Ebikon
DESCRIPTION:
URL:https://sp-ebikon.ch/veranstaltung/jubilaeumsfest-75-jahre-sp-ebikon/
CATEGORIES:Mitgliederanlass
END:VEVENT
BEGIN:VEVENT
DTSTART;TZID=Europe/Zurich:20261001T173000
DTEND;TZID=Europe/Zurich:20261001T190000
DTSTAMP:20260420T034642
CREATED:20251201T141229Z
LAST-MODIFIED:20260129T184304Z
UID:10000094-1790875800-1790881200@sp-ebikon.ch
SUMMARY:Donnstigs-Bier
DESCRIPTION:
URL:https://sp-ebikon.ch/veranstaltung/donnstigs-bier-7/
CATEGORIES:Mitgliederanlass,Stammtisch
END:VEVENT
BEGIN:VEVENT
DTSTART;VALUE=DATE:20261017
DTEND;VALUE=DATE:20261019
DTSTAMP:20260420T034642
CREATED:20251230T184049Z
LAST-MODIFIED:20251230T184049Z
UID:10000101-1792195200-1792367999@sp-ebikon.ch
SUMMARY:Parteitag SP Schweiz in Thun
DESCRIPTION:
URL:https://sp-ebikon.ch/veranstaltung/parteitag-sp-schweiz-in-thun/
CATEGORIES:Parteitag
END:VEVENT
BEGIN:VEVENT
DTSTART;TZID=Europe/Zurich:20261022T191500
DTEND;TZID=Europe/Zurich:20261022T213000
DTSTAMP:20260420T034642
CREATED:20251014T093040Z
LAST-MODIFIED:20251014T093040Z
UID:10000087-1792696500-1792704600@sp-ebikon.ch
SUMMARY:Sektionsversammlung
DESCRIPTION:
URL:https://sp-ebikon.ch/veranstaltung/sektionsversammlung-6/
CATEGORIES:Sektionsversammlung
END:VEVENT
BEGIN:VEVENT
DTSTART;TZID=Europe/Zurich:20261105T173000
DTEND;TZID=Europe/Zurich:20261105T190000
DTSTAMP:20260420T034642
CREATED:20251201T141252Z
LAST-MODIFIED:20260129T184323Z
UID:10000095-1793899800-1793905200@sp-ebikon.ch
SUMMARY:Donnstigs-Bier
DESCRIPTION:
URL:https://sp-ebikon.ch/veranstaltung/donnstigs-bier-8/
CATEGORIES:Mitgliederanlass,Stammtisch
END:VEVENT
BEGIN:VEVENT
DTSTART;TZID=Europe/Zurich:20261109T193000
DTEND;TZID=Europe/Zurich:20261109T210000
DTSTAMP:20260420T034642
CREATED:20251230T183953Z
LAST-MODIFIED:20251230T183953Z
UID:10000100-1794252600-1794258000@sp-ebikon.ch
SUMMARY:Nah-Bar mit Ylfete Fanaj in Ebikon
DESCRIPTION:Nah-Bar mit Regierungsrätin Ylfete Fanaj. Ylfete Fanaj berichtet von ihrer Arbeit als Regierungsrätin und steht für Fragen und Diskussionen zur Verfügung. \nMontag\, 9. November 2026\, 19:30 Uhr
URL:https://sp-ebikon.ch/veranstaltung/nah-bar-mit-ylfete-fanaj-in-ebikon/
CATEGORIES:Bildungsveranstaltung,Mitgliederanlass
END:VEVENT
BEGIN:VEVENT
DTSTART;TZID=Europe/Zurich:20261203T173000
DTEND;TZID=Europe/Zurich:20261203T190000
DTSTAMP:20260420T034642
CREATED:20251201T141309Z
LAST-MODIFIED:20260129T184334Z
UID:10000096-1796319000-1796324400@sp-ebikon.ch
SUMMARY:Donnstigs-Bier
DESCRIPTION:
URL:https://sp-ebikon.ch/veranstaltung/donnstigs-bier-9/
CATEGORIES:Mitgliederanlass,Stammtisch
END:VEVENT
END:VCALENDAR